BEGIN:VCALENDAR
VERSION:2.0
PRODID:-//Ivy Climbing - ECPv6.15.20//NONSGML v1.0//EN
CALSCALE:GREGORIAN
METHOD:PUBLISH
X-WR-CALNAME:Ivy Climbing
X-ORIGINAL-URL:https://www.ivyclimbing.nl
X-WR-CALDESC:Evenementen voor Ivy Climbing
REFRESH-INTERVAL;VALUE=DURATION:PT1H
X-Robots-Tag:noindex
X-PUBLISHED-TTL:PT1H
BEGIN:VTIMEZONE
TZID:Europe/Amsterdam
BEGIN:DAYLIGHT
TZOFFSETFROM:+0100
TZOFFSETTO:+0200
TZNAME:CEST
DTSTART:20250330T010000
END:DAYLIGHT
BEGIN:STANDARD
TZOFFSETFROM:+0200
TZOFFSETTO:+0100
TZNAME:CET
DTSTART:20251026T010000
END:STANDARD
BEGIN:DAYLIGHT
TZOFFSETFROM:+0100
TZOFFSETTO:+0200
TZNAME:CEST
DTSTART:20260329T010000
END:DAYLIGHT
BEGIN:STANDARD
TZOFFSETFROM:+0200
TZOFFSETTO:+0100
TZNAME:CET
DTSTART:20261025T010000
END:STANDARD
BEGIN:DAYLIGHT
TZOFFSETFROM:+0100
TZOFFSETTO:+0200
TZNAME:CEST
DTSTART:20270328T010000
END:DAYLIGHT
BEGIN:STANDARD
TZOFFSETFROM:+0200
TZOFFSETTO:+0100
TZNAME:CET
DTSTART:20271031T010000
END:STANDARD
END:VTIMEZONE
BEGIN:VEVENT
DTSTART;TZID=Europe/Amsterdam:20260529T190000
DTEND;TZID=Europe/Amsterdam:20260529T223000
DTSTAMP:20260423T122617
CREATED:20260311T144610Z
LAST-MODIFIED:20260311T144610Z
UID:1222-1780081200-1780093800@www.ivyclimbing.nl
SUMMARY:Volwassenen Boulder Series Limburg
DESCRIPTION:Een laagdrempelige boulderwedstrijd\, toegankelijk voor alle niveau’s. \nMeer info en aanmelden
URL:https://www.ivyclimbing.nl/event/volwassenen-boulder-series-limburg/
CATEGORIES:Wedstrijden
END:VEVENT
BEGIN:VEVENT
DTSTART;TZID=Europe/Amsterdam:20260530T093000
DTEND;TZID=Europe/Amsterdam:20260530T133000
DTSTAMP:20260423T122617
CREATED:20260311T144826Z
LAST-MODIFIED:20260311T144826Z
UID:1224-1780133400-1780147800@www.ivyclimbing.nl
SUMMARY:Jeugd Boulder Series Limburg
DESCRIPTION:Een laagdrempelige boulderwedstrijd\, toegankelijk voor alle niveau’s. \nMeer info en aanmelden
URL:https://www.ivyclimbing.nl/event/jeugd-boulder-series-limburg/
CATEGORIES:Wedstrijden
END:VEVENT
END:VCALENDAR